BEGIN:VCALENDAR
VERSION:2.0
PRODID:-//eventon.com NONSGML v1.0//EN
CALSCALE:GREGORIAN
METHOD:PUBLISH
BEGIN:VEVENT
UID:69e745d53e6e8
DTSTAMP:20260421T093933Z
DTSTART:20260623T074500Z
DTEND:20260623T141500Z
LOCATION:
SUMMARY:Year 1 visit to Beale Park
DESCRIPTION:\nhttps://owlsmoorprimary.com/events/year-1-visit-to-beale-park
 /
URL:https://owlsmoorprimary.com/events/year-1-visit-to-beale-park/
END:VEVENT
END:VCALENDAR